BEGIN:VCALENDAR
VERSION:2.0
PRODID:-//Guelaguetza Oaxaca 2026 | Corazón cultural de México - ECPv6.15.20//NONSGML v1.0//EN
CALSCALE:GREGORIAN
METHOD:PUBLISH
X-ORIGINAL-URL:https://guelaguetza.oaxaca.gob.mx
X-WR-CALDESC:Eventos para Guelaguetza Oaxaca 2026 | Corazón cultural de México
REFRESH-INTERVAL;VALUE=DURATION:PT1H
X-Robots-Tag:noindex
X-PUBLISHED-TTL:PT1H
BEGIN:VTIMEZONE
TZID:America/Mexico_City
BEGIN:STANDARD
TZOFFSETFROM:-0600
TZOFFSETTO:-0600
TZNAME:CST
DTSTART:20240101T000000
END:STANDARD
END:VTIMEZONE
BEGIN:VEVENT
DTSTART;TZID=America/Mexico_City:20250702T180000
DTEND;TZID=America/Mexico_City:20250731T220000
DTSTAMP:20260425T132530
CREATED:20250616T174110Z
LAST-MODIFIED:20250616T174110Z
UID:2430-1751479200-1753999200@guelaguetza.oaxaca.gob.mx
SUMMARY:Conciertos culturales
DESCRIPTION:
URL:https://guelaguetza.oaxaca.gob.mx/event/conciertos-culturales/
LOCATION:Zócalo de la ciudad de Oaxaca\, Zócalo de la Ciudad de Oaxaca\, Oaxaca\, Mexico
CATEGORIES:Guelaguetza
END:VEVENT
BEGIN:VEVENT
DTSTART;TZID=America/Mexico_City:20250707T180000
DTEND;TZID=America/Mexico_City:20250707T200000
DTSTAMP:20260425T132530
CREATED:20250603T181035Z
LAST-MODIFIED:20250615T015013Z
UID:1982-1751911200-1751918400@guelaguetza.oaxaca.gob.mx
SUMMARY:Primer Convite de Guelaguetza
DESCRIPTION:
URL:https://guelaguetza.oaxaca.gob.mx/event/primer-convite-de-guelaguetza/
LOCATION:De la Cruz de Piedra a la Alameda de León\, Monumento Cruz de Piedra\, Oaxaca\, Mexico
CATEGORIES:Guelaguetza
ATTACH;FMTTYPE=image/webp:https://guelaguetza.oaxaca.gob.mx/wp-content/uploads/2025/06/07-11y12JULIO-Convites.webp
END:VEVENT
BEGIN:VEVENT
DTSTART;TZID=America/Mexico_City:20250707T200000
DTEND;TZID=America/Mexico_City:20250707T220000
DTSTAMP:20260425T132530
CREATED:20250603T181553Z
LAST-MODIFIED:20250603T181553Z
UID:1984-1751918400-1751925600@guelaguetza.oaxaca.gob.mx
SUMMARY:Concierto de Sensemayá Son Cubano
DESCRIPTION:
URL:https://guelaguetza.oaxaca.gob.mx/event/concierto-de-sensemaya-son-cubano/
LOCATION:Zócalo de la ciudad de Oaxaca\, Zócalo de la Ciudad de Oaxaca\, Oaxaca\, Mexico
CATEGORIES:Guelaguetza
END:VEVENT
END:VCALENDAR