BEGIN:VCALENDAR
VERSION:2.0
PRODID:-//Guelaguetza Oaxaca 2026 | Corazón cultural de México - ECPv6.15.20//NONSGML v1.0//EN
CALSCALE:GREGORIAN
METHOD:PUBLISH
X-ORIGINAL-URL:https://guelaguetza.oaxaca.gob.mx
X-WR-CALDESC:Eventos para Guelaguetza Oaxaca 2026 | Corazón cultural de México
REFRESH-INTERVAL;VALUE=DURATION:PT1H
X-Robots-Tag:noindex
X-PUBLISHED-TTL:PT1H
BEGIN:VTIMEZONE
TZID:America/Mexico_City
BEGIN:STANDARD
TZOFFSETFROM:-0600
TZOFFSETTO:-0600
TZNAME:CST
DTSTART:20240101T000000
END:STANDARD
END:VTIMEZONE
BEGIN:VEVENT
DTSTART;TZID=America/Mexico_City:20250702T180000
DTEND;TZID=America/Mexico_City:20250731T220000
DTSTAMP:20260425T132610
CREATED:20250616T174110Z
LAST-MODIFIED:20250616T174110Z
UID:2430-1751479200-1753999200@guelaguetza.oaxaca.gob.mx
SUMMARY:Conciertos culturales
DESCRIPTION:
URL:https://guelaguetza.oaxaca.gob.mx/event/conciertos-culturales/
LOCATION:Zócalo de la ciudad de Oaxaca\, Zócalo de la Ciudad de Oaxaca\, Oaxaca\, Mexico
CATEGORIES:Guelaguetza
END:VEVENT
BEGIN:VEVENT
DTSTART;TZID=America/Mexico_City:20250710T100000
DTEND;TZID=America/Mexico_City:20250710T130000
DTSTAMP:20260425T132610
CREATED:20250613T222733Z
LAST-MODIFIED:20250613T222733Z
UID:2220-1752141600-1752152400@guelaguetza.oaxaca.gob.mx
SUMMARY:Torneo Internacional de Pelota Mixteca "Guelaguetza 2025". Modalidad: pelota de esponja
DESCRIPTION:
URL:https://guelaguetza.oaxaca.gob.mx/event/torneo-internacional-de-pelota-mixteca-guelaguetza-2025-modalidad-pelota-de-esponja/
LOCATION:Pasajuego\, UABJO 5 Señores
CATEGORIES:Guelaguetza
END:VEVENT
BEGIN:VEVENT
DTSTART;TZID=America/Mexico_City:20250710T180000
DTEND;TZID=America/Mexico_City:20250710T200000
DTSTAMP:20260425T132610
CREATED:20250603T184048Z
LAST-MODIFIED:20250603T184048Z
UID:1994-1752170400-1752177600@guelaguetza.oaxaca.gob.mx
SUMMARY:Concierto de Ángela Reyes\, cantante zapoteca
DESCRIPTION:
URL:https://guelaguetza.oaxaca.gob.mx/event/concierto-de-angela-reyes-cantante-zapoteca/
LOCATION:Zócalo de la ciudad de Oaxaca\, Zócalo de la Ciudad de Oaxaca\, Oaxaca\, Mexico
CATEGORIES:Guelaguetza
END:VEVENT
BEGIN:VEVENT
DTSTART;TZID=America/Mexico_City:20250710T203000
DTEND;TZID=America/Mexico_City:20250710T223000
DTSTAMP:20260425T132610
CREATED:20250603T185003Z
LAST-MODIFIED:20250613T210816Z
UID:1996-1752179400-1752186600@guelaguetza.oaxaca.gob.mx
SUMMARY:Concierto de Pasatono Orquesta
DESCRIPTION:
URL:https://guelaguetza.oaxaca.gob.mx/event/concierto-de-pasatono-orquesta/
LOCATION:Zócalo de la ciudad de Oaxaca\, Zócalo de la Ciudad de Oaxaca\, Oaxaca\, Mexico
CATEGORIES:Guelaguetza
END:VEVENT
END:VCALENDAR