BEGIN:VCALENDAR
VERSION:2.0
PRODID:-//Guelaguetza Oaxaca 2026 | Corazón cultural de México - ECPv6.15.20//NONSGML v1.0//EN
CALSCALE:GREGORIAN
METHOD:PUBLISH
X-ORIGINAL-URL:https://guelaguetza.oaxaca.gob.mx
X-WR-CALDESC:Eventos para Guelaguetza Oaxaca 2026 | Corazón cultural de México
REFRESH-INTERVAL;VALUE=DURATION:PT1H
X-Robots-Tag:noindex
X-PUBLISHED-TTL:PT1H
BEGIN:VTIMEZONE
TZID:America/Mexico_City
BEGIN:STANDARD
TZOFFSETFROM:-0600
TZOFFSETTO:-0600
TZNAME:CST
DTSTART:20240101T000000
END:STANDARD
END:VTIMEZONE
BEGIN:VEVENT
DTSTART;TZID=America/Mexico_City:20250702T180000
DTEND;TZID=America/Mexico_City:20250731T220000
DTSTAMP:20260425T132647
CREATED:20250616T174110Z
LAST-MODIFIED:20250616T174110Z
UID:2430-1751479200-1753999200@guelaguetza.oaxaca.gob.mx
SUMMARY:Conciertos culturales
DESCRIPTION:
URL:https://guelaguetza.oaxaca.gob.mx/event/conciertos-culturales/
LOCATION:Zócalo de la ciudad de Oaxaca\, Zócalo de la Ciudad de Oaxaca\, Oaxaca\, Mexico
CATEGORIES:Guelaguetza
END:VEVENT
BEGIN:VEVENT
DTSTART;TZID=America/Mexico_City:20250711T090000
DTEND;TZID=America/Mexico_City:20250711T230000
DTSTAMP:20260425T132647
CREATED:20250603T185317Z
LAST-MODIFIED:20250603T185317Z
UID:1999-1752224400-1752274800@guelaguetza.oaxaca.gob.mx
SUMMARY:Récord Guinness de la Tlayuda
DESCRIPTION:
URL:https://guelaguetza.oaxaca.gob.mx/event/record-guinness-de-la-tlayuda/
LOCATION:Parque Primavera Cho ndobá\, Parque Primavera Oaxaqueña\, Oaxaca de Juárez\, Oaxaca\, Mexico
CATEGORIES:Guelaguetza
END:VEVENT
BEGIN:VEVENT
DTSTART;TZID=America/Mexico_City:20250711T100000
DTEND;TZID=America/Mexico_City:20250711T120000
DTSTAMP:20260425T132647
CREATED:20250603T190129Z
LAST-MODIFIED:20250603T190129Z
UID:2001-1752228000-1752235200@guelaguetza.oaxaca.gob.mx
SUMMARY:Inauguración de la Expo venta "Del comal para el mundo: La Tlayuda"
DESCRIPTION:
URL:https://guelaguetza.oaxaca.gob.mx/event/inauguracion-de-la-expo-venta-del-comal-para-el-mundo-la-tlayuda/
LOCATION:Parque Primavera Cho ndobá\, Parque Primavera Oaxaqueña\, Oaxaca de Juárez\, Oaxaca\, Mexico
CATEGORIES:Guelaguetza
END:VEVENT
BEGIN:VEVENT
DTSTART;TZID=America/Mexico_City:20250711T110000
DTEND;TZID=America/Mexico_City:20250713T200000
DTSTAMP:20260425T132647
CREATED:20250614T044403Z
LAST-MODIFIED:20250614T044403Z
UID:2327-1752231600-1752436800@guelaguetza.oaxaca.gob.mx
SUMMARY:Expo venta: "Del comal para el mundo: La Tlayuda"
DESCRIPTION:
URL:https://guelaguetza.oaxaca.gob.mx/event/expo-venta-del-comal-para-el-mundo-la-tlayuda/
LOCATION:Parque Primavera Cho ndobá\, Parque Primavera Oaxaqueña\, Oaxaca de Juárez\, Oaxaca\, Mexico
CATEGORIES:Guelaguetza
END:VEVENT
BEGIN:VEVENT
DTSTART;TZID=America/Mexico_City:20250711T180000
DTEND;TZID=America/Mexico_City:20250711T200000
DTSTAMP:20260425T132647
CREATED:20250603T191436Z
LAST-MODIFIED:20250615T015049Z
UID:2006-1752256800-1752264000@guelaguetza.oaxaca.gob.mx
SUMMARY:Segundo Convite de Guelaguetza
DESCRIPTION:
URL:https://guelaguetza.oaxaca.gob.mx/event/segundo-convite-de-guelaguetza/
LOCATION:De la Cruz de Piedra a la Alameda de León\, Monumento Cruz de Piedra\, Oaxaca\, Mexico
CATEGORIES:Guelaguetza
ATTACH;FMTTYPE=image/webp:https://guelaguetza.oaxaca.gob.mx/wp-content/uploads/2025/06/07-11y12JULIO-Convites.webp
END:VEVENT
BEGIN:VEVENT
DTSTART;TZID=America/Mexico_City:20250711T203000
DTEND;TZID=America/Mexico_City:20250711T223000
DTSTAMP:20260425T132647
CREATED:20250603T192130Z
LAST-MODIFIED:20250603T192130Z
UID:2009-1752265800-1752273000@guelaguetza.oaxaca.gob.mx
SUMMARY:Concierto de Victor Díaz y su ensamble
DESCRIPTION:
URL:https://guelaguetza.oaxaca.gob.mx/event/concierto-de-victor-diaz-y-su-ensamble/
LOCATION:Museo de los Pintores Oaxaqueños\, Oaxaca\, Mexico
CATEGORIES:Guelaguetza
END:VEVENT
END:VCALENDAR