BEGIN:VCALENDAR
VERSION:2.0
PRODID:-//Guelaguetza Oaxaca 2026 | Corazón cultural de México - ECPv6.15.20//NONSGML v1.0//EN
CALSCALE:GREGORIAN
METHOD:PUBLISH
X-ORIGINAL-URL:https://guelaguetza.oaxaca.gob.mx
X-WR-CALDESC:Eventos para Guelaguetza Oaxaca 2026 | Corazón cultural de México
REFRESH-INTERVAL;VALUE=DURATION:PT1H
X-Robots-Tag:noindex
X-PUBLISHED-TTL:PT1H
BEGIN:VTIMEZONE
TZID:America/Mexico_City
BEGIN:STANDARD
TZOFFSETFROM:-0600
TZOFFSETTO:-0600
TZNAME:CST
DTSTART:20240101T000000
END:STANDARD
END:VTIMEZONE
BEGIN:VEVENT
DTSTART;TZID=America/Mexico_City:20250702T180000
DTEND;TZID=America/Mexico_City:20250731T220000
DTSTAMP:20260425T132647
CREATED:20250616T174110Z
LAST-MODIFIED:20250616T174110Z
UID:2430-1751479200-1753999200@guelaguetza.oaxaca.gob.mx
SUMMARY:Conciertos culturales
DESCRIPTION:
URL:https://guelaguetza.oaxaca.gob.mx/event/conciertos-culturales/
LOCATION:Zócalo de la ciudad de Oaxaca\, Zócalo de la Ciudad de Oaxaca\, Oaxaca\, Mexico
CATEGORIES:Guelaguetza
END:VEVENT
BEGIN:VEVENT
DTSTART;TZID=America/Mexico_City:20250711T110000
DTEND;TZID=America/Mexico_City:20250713T200000
DTSTAMP:20260425T132647
CREATED:20250614T044403Z
LAST-MODIFIED:20250614T044403Z
UID:2327-1752231600-1752436800@guelaguetza.oaxaca.gob.mx
SUMMARY:Expo venta: "Del comal para el mundo: La Tlayuda"
DESCRIPTION:
URL:https://guelaguetza.oaxaca.gob.mx/event/expo-venta-del-comal-para-el-mundo-la-tlayuda/
LOCATION:Parque Primavera Cho ndobá\, Parque Primavera Oaxaqueña\, Oaxaca de Juárez\, Oaxaca\, Mexico
CATEGORIES:Guelaguetza
END:VEVENT
BEGIN:VEVENT
DTSTART;TZID=America/Mexico_City:20250712T120000
DTEND;TZID=America/Mexico_City:20250712T140000
DTSTAMP:20260425T132647
CREATED:20250603T192451Z
LAST-MODIFIED:20250603T192451Z
UID:2011-1752321600-1752328800@guelaguetza.oaxaca.gob.mx
SUMMARY:Inauguración de la Exposición "Penachos" de Rolando Jiménez
DESCRIPTION:
URL:https://guelaguetza.oaxaca.gob.mx/event/inauguracion-de-la-exposicion-penachos-de-rolando-jimenez/
LOCATION:Hemeroteca Néstor Sánchez
CATEGORIES:Guelaguetza
END:VEVENT
BEGIN:VEVENT
DTSTART;TZID=America/Mexico_City:20250712T170000
DTEND;TZID=America/Mexico_City:20250712T200000
DTSTAMP:20260425T132647
CREATED:20250603T192800Z
LAST-MODIFIED:20250603T192800Z
UID:2014-1752339600-1752350400@guelaguetza.oaxaca.gob.mx
SUMMARY:Concierto de la Banda de Musica "Sones Viajeros" del Centro de Integración Social No. 8 de Zoogocho
DESCRIPTION:
URL:https://guelaguetza.oaxaca.gob.mx/event/concierto-de-la-banda-de-musica-sones-viajeros-del-centro-de-integracion-social-no-8-de-zoogocho-2/
LOCATION:Zócalo de la ciudad de Oaxaca\, Zócalo de la Ciudad de Oaxaca\, Oaxaca\, Mexico
CATEGORIES:Guelaguetza
END:VEVENT
BEGIN:VEVENT
DTSTART;TZID=America/Mexico_City:20250712T180000
DTEND;TZID=America/Mexico_City:20250712T200000
DTSTAMP:20260425T132647
CREATED:20250603T193411Z
LAST-MODIFIED:20250615T015204Z
UID:2016-1752343200-1752350400@guelaguetza.oaxaca.gob.mx
SUMMARY:Tercer Convite Guelaguetza
DESCRIPTION:
URL:https://guelaguetza.oaxaca.gob.mx/event/tercer-convite-guelaguetza/
LOCATION:De la Cruz de Piedra a la Alameda de León\, Monumento Cruz de Piedra\, Oaxaca\, Mexico
CATEGORIES:Guelaguetza
ATTACH;FMTTYPE=image/webp:https://guelaguetza.oaxaca.gob.mx/wp-content/uploads/2025/06/07-11y12JULIO-Convites.webp
END:VEVENT
BEGIN:VEVENT
DTSTART;TZID=America/Mexico_City:20250712T203000
DTEND;TZID=America/Mexico_City:20250712T223000
DTSTAMP:20260425T132647
CREATED:20250603T193620Z
LAST-MODIFIED:20250603T193631Z
UID:2018-1752352200-1752359400@guelaguetza.oaxaca.gob.mx
SUMMARY:Concierto de la Orquesta Primavera de Oaxaca con Madai Real
DESCRIPTION:
URL:https://guelaguetza.oaxaca.gob.mx/event/concierto-de-la-orquesta-primavera-de-oaxaca-con-madai-real/
LOCATION:Zócalo de la ciudad de Oaxaca\, Zócalo de la Ciudad de Oaxaca\, Oaxaca\, Mexico
CATEGORIES:Guelaguetza
END:VEVENT
END:VCALENDAR