BEGIN:VCALENDAR
VERSION:2.0
PRODID:-//Guelaguetza Oaxaca 2026 | Corazón cultural de México - ECPv6.15.20//NONSGML v1.0//EN
CALSCALE:GREGORIAN
METHOD:PUBLISH
X-WR-CALNAME:Guelaguetza Oaxaca 2026 | Corazón cultural de México
X-ORIGINAL-URL:https://guelaguetza.oaxaca.gob.mx
X-WR-CALDESC:Eventos para Guelaguetza Oaxaca 2026 | Corazón cultural de México
REFRESH-INTERVAL;VALUE=DURATION:PT1H
X-Robots-Tag:noindex
X-PUBLISHED-TTL:PT1H
BEGIN:VTIMEZONE
TZID:America/Mexico_City
BEGIN:STANDARD
TZOFFSETFROM:-0600
TZOFFSETTO:-0600
TZNAME:CST
DTSTART:20240101T000000
END:STANDARD
END:VTIMEZONE
BEGIN:VEVENT
DTSTART;TZID=America/Mexico_City:20250702T180000
DTEND;TZID=America/Mexico_City:20250731T220000
DTSTAMP:20260425T132524
CREATED:20250616T174110Z
LAST-MODIFIED:20250616T174110Z
UID:2430-1751479200-1753999200@guelaguetza.oaxaca.gob.mx
SUMMARY:Conciertos culturales
DESCRIPTION:
URL:https://guelaguetza.oaxaca.gob.mx/event/conciertos-culturales/
LOCATION:Zócalo de la ciudad de Oaxaca\, Zócalo de la Ciudad de Oaxaca\, Oaxaca\, Mexico
CATEGORIES:Guelaguetza
END:VEVENT
BEGIN:VEVENT
DTSTART;TZID=America/Mexico_City:20250715T110000
DTEND;TZID=America/Mexico_City:20250715T130000
DTSTAMP:20260425T132524
CREATED:20250603T190924Z
LAST-MODIFIED:20250613T211131Z
UID:2003-1752577200-1752584400@guelaguetza.oaxaca.gob.mx
SUMMARY:Exposición "Pinceladas de Tradición Guelaguetza 2025"
DESCRIPTION:
URL:https://guelaguetza.oaxaca.gob.mx/event/exposicion-pinceladas-de-tradicion-guelaguetza-2025/
LOCATION:Recinto Cultural del Parque Primavera Cho ndobá\, Parque Primavera Oaxaqueña\, Oaxaca de Juárez\, Oaxaca\, Mexico
CATEGORIES:Guelaguetza
END:VEVENT
BEGIN:VEVENT
DTSTART;TZID=America/Mexico_City:20250715T110000
DTEND;TZID=America/Mexico_City:20250730T180000
DTSTAMP:20260425T132524
CREATED:20250616T174757Z
LAST-MODIFIED:20250616T174757Z
UID:2432-1752577200-1753898400@guelaguetza.oaxaca.gob.mx
SUMMARY:Inauguración de la exposición pictórica "Pinceladas de tradición 2025"
DESCRIPTION:
URL:https://guelaguetza.oaxaca.gob.mx/event/inauguracion-de-la-exposicion-pictorica-pinceladas-de-tradicion-2025/
LOCATION:Recinto Cultural del Parque Primavera Cho ndobá\, Parque Primavera Oaxaqueña\, Oaxaca de Juárez\, Oaxaca\, Mexico
CATEGORIES:Guelaguetza
END:VEVENT
BEGIN:VEVENT
DTSTART;TZID=America/Mexico_City:20250715T160000
DTEND;TZID=America/Mexico_City:20250715T180000
DTSTAMP:20260425T132524
CREATED:20250613T203906Z
LAST-MODIFIED:20250613T203906Z
UID:2123-1752595200-1752602400@guelaguetza.oaxaca.gob.mx
SUMMARY:Concierto de Cristian Barajas. Tributo a Compositores Oaxaqueños.
DESCRIPTION:
URL:https://guelaguetza.oaxaca.gob.mx/event/concierto-de-cristian-barajas-tributo-a-compositores-oaxaquenos/
LOCATION:Museo de los Pintores Oaxaqueños\, Oaxaca\, Mexico
CATEGORIES:Guelaguetza
END:VEVENT
BEGIN:VEVENT
DTSTART;TZID=America/Mexico_City:20250715T190000
DTEND;TZID=America/Mexico_City:20250715T210000
DTSTAMP:20260425T132524
CREATED:20250613T204648Z
LAST-MODIFIED:20250613T204648Z
UID:2127-1752606000-1752613200@guelaguetza.oaxaca.gob.mx
SUMMARY:Concierto del cuarteto de cuerdas "ORISHAS"
DESCRIPTION:
URL:https://guelaguetza.oaxaca.gob.mx/event/concierto-del-cuarteto-de-cuerdas-orishas/
LOCATION:Museo de los Pintores Oaxaqueños\, Oaxaca\, Mexico
CATEGORIES:Guelaguetza
END:VEVENT
BEGIN:VEVENT
DTSTART;TZID=America/Mexico_City:20250715T190000
DTEND;TZID=America/Mexico_City:20250715T210000
DTSTAMP:20260425T132524
CREATED:20250613T205307Z
LAST-MODIFIED:20250613T205307Z
UID:2133-1752606000-1752613200@guelaguetza.oaxaca.gob.mx
SUMMARY:Concierto de La Mezcalera Blues Band
DESCRIPTION:
URL:https://guelaguetza.oaxaca.gob.mx/event/concierto-de-la-mezcalera-blues-band/
LOCATION:Recinto Cultural del Parque Primavera Cho ndobá\, Parque Primavera Oaxaqueña\, Oaxaca de Juárez\, Oaxaca\, Mexico
CATEGORIES:Guelaguetza
END:VEVENT
END:VCALENDAR