BEGIN:VCALENDAR
VERSION:2.0
PRODID:-//Guelaguetza Oaxaca 2025 | Corazón cultural de México - ECPv6.15.13//NONSGML v1.0//EN
CALSCALE:GREGORIAN
METHOD:PUBLISH
X-ORIGINAL-URL:https://guelaguetza.oaxaca.gob.mx
X-WR-CALDESC:Eventos para Guelaguetza Oaxaca 2025 | Corazón cultural de México
REFRESH-INTERVAL;VALUE=DURATION:PT1H
X-Robots-Tag:noindex
X-PUBLISHED-TTL:PT1H
BEGIN:VTIMEZONE
TZID:America/Mexico_City
BEGIN:STANDARD
TZOFFSETFROM:-0600
TZOFFSETTO:-0600
TZNAME:CST
DTSTART:20240101T000000
END:STANDARD
END:VTIMEZONE
BEGIN:VEVENT
DTSTART;TZID=America/Mexico_City:20250702T180000
DTEND;TZID=America/Mexico_City:20250731T220000
DTSTAMP:20260419T091640
CREATED:20250616T174110Z
LAST-MODIFIED:20250616T174110Z
UID:2430-1751479200-1753999200@guelaguetza.oaxaca.gob.mx
SUMMARY:Conciertos culturales
DESCRIPTION:
URL:https://guelaguetza.oaxaca.gob.mx/event/conciertos-culturales/
LOCATION:Zócalo de la ciudad de Oaxaca\, Zócalo de la Ciudad de Oaxaca\, Oaxaca\, Mexico
CATEGORIES:Guelaguetza
END:VEVENT
BEGIN:VEVENT
DTSTART;TZID=America/Mexico_City:20250715T110000
DTEND;TZID=America/Mexico_City:20250730T180000
DTSTAMP:20260419T091640
CREATED:20250616T174757Z
LAST-MODIFIED:20250616T174757Z
UID:2432-1752577200-1753898400@guelaguetza.oaxaca.gob.mx
SUMMARY:Inauguración de la exposición pictórica "Pinceladas de tradición 2025"
DESCRIPTION:
URL:https://guelaguetza.oaxaca.gob.mx/event/inauguracion-de-la-exposicion-pictorica-pinceladas-de-tradicion-2025/
LOCATION:Recinto Cultural del Parque Primavera Cho ndobá\, Parque Primavera Oaxaqueña\, Oaxaca de Juárez\, Oaxaca\, Mexico
CATEGORIES:Guelaguetza
END:VEVENT
BEGIN:VEVENT
DTSTART;TZID=America/Mexico_City:20250716T100000
DTEND;TZID=America/Mexico_City:20250727T170000
DTSTAMP:20260419T091640
CREATED:20250614T044922Z
LAST-MODIFIED:20250617T212259Z
UID:2331-1752660000-1753635600@guelaguetza.oaxaca.gob.mx
SUMMARY:Torneo del juego de la Pelota Mixteca "Guelaguetza 2025"
DESCRIPTION:
URL:https://guelaguetza.oaxaca.gob.mx/event/torneo-del-juego-de-la-pelota-mixteca-guelaguetza-2025-2/
LOCATION:Pasajuego Benito Juárez  Pasajuego 5 señores de la UABJO Pasajuego\, Juxtlahuaca
CATEGORIES:Guelaguetza
END:VEVENT
BEGIN:VEVENT
DTSTART;TZID=America/Mexico_City:20250716T110000
DTEND;TZID=America/Mexico_City:20250730T210000
DTSTAMP:20260419T091640
CREATED:20250614T045159Z
LAST-MODIFIED:20250615T015533Z
UID:2336-1752663600-1753909200@guelaguetza.oaxaca.gob.mx
SUMMARY:Tianguis Gastronómico "Desde mis Raíces con sus Sabores"
DESCRIPTION:
URL:https://guelaguetza.oaxaca.gob.mx/event/tianguis-gastronomico-desde-mis-raices-con-sus-sabores/
LOCATION:Plaza de la Danza\, Plaza de la Danza\, Oaxaca\, Mexico
CATEGORIES:Guelaguetza
ATTACH;FMTTYPE=image/webp:https://guelaguetza.oaxaca.gob.mx/wp-content/uploads/2025/06/16JULIO-Tianguis-Gastronomico.webp
END:VEVENT
BEGIN:VEVENT
DTSTART;TZID=America/Mexico_City:20250717T060000
DTEND;TZID=America/Mexico_City:20250717T080000
DTSTAMP:20260419T091640
CREATED:20250613T212951Z
LAST-MODIFIED:20250613T212951Z
UID:2143-1752732000-1752739200@guelaguetza.oaxaca.gob.mx
SUMMARY:Encuentro de Chirimías
DESCRIPTION:
URL:https://guelaguetza.oaxaca.gob.mx/event/encuentro-de-chirimias/
LOCATION:Templos de la Ciudad de Oaxaca
CATEGORIES:Guelaguetza
END:VEVENT
BEGIN:VEVENT
DTSTART;TZID=America/Mexico_City:20250717T100000
DTEND;TZID=America/Mexico_City:20250717T120000
DTSTAMP:20260419T091640
CREATED:20250613T214513Z
LAST-MODIFIED:20250613T214513Z
UID:2161-1752746400-1752753600@guelaguetza.oaxaca.gob.mx
SUMMARY:Inauguración de la Feria del Textil Oaxaqueño
DESCRIPTION:
URL:https://guelaguetza.oaxaca.gob.mx/event/inauguracion-de-la-feria-del-textil-oaxaqueno/
LOCATION:Real Alhóndiga de Antequera\, Oaxaca\, Mexico
CATEGORIES:Guelaguetza
END:VEVENT
BEGIN:VEVENT
DTSTART;TZID=America/Mexico_City:20250717T100000
DTEND;TZID=America/Mexico_City:20250724T200000
DTSTAMP:20260419T091640
CREATED:20250616T175401Z
LAST-MODIFIED:20250616T175401Z
UID:2435-1752746400-1753387200@guelaguetza.oaxaca.gob.mx
SUMMARY:Expo Feria Artesanal de Santa María Atzompa
DESCRIPTION:
URL:https://guelaguetza.oaxaca.gob.mx/event/expo-feria-artesanal-de-santa-maria-atzompa/
LOCATION:Palacio Municipal de Santa María Atzompa
CATEGORIES:Guelaguetza
END:VEVENT
BEGIN:VEVENT
DTSTART;TZID=America/Mexico_City:20250717T103000
DTEND;TZID=America/Mexico_City:20250717T123000
DTSTAMP:20260419T091640
CREATED:20250613T214838Z
LAST-MODIFIED:20250613T214838Z
UID:2167-1752748200-1752755400@guelaguetza.oaxaca.gob.mx
SUMMARY:Concierto del Grupo Baa-Tihu de Río Grande
DESCRIPTION:
URL:https://guelaguetza.oaxaca.gob.mx/event/concierto-del-grupo-baa-tihu-de-rio-grande/
LOCATION:Real Alhóndiga de Antequera\, Oaxaca\, Mexico
CATEGORIES:Guelaguetza
END:VEVENT
BEGIN:VEVENT
DTSTART;TZID=America/Mexico_City:20250717T110000
DTEND;TZID=America/Mexico_City:20250724T180000
DTSTAMP:20260419T091640
CREATED:20250616T180147Z
LAST-MODIFIED:20250616T180147Z
UID:2440-1752750000-1753380000@guelaguetza.oaxaca.gob.mx
SUMMARY:Feria del Textil Oaxaqueño
DESCRIPTION:
URL:https://guelaguetza.oaxaca.gob.mx/event/feria-del-textil-oaxaqueno/
LOCATION:Real Alhóndiga de Antequera\, Oaxaca\, Mexico
CATEGORIES:Guelaguetza
END:VEVENT
BEGIN:VEVENT
DTSTART;TZID=America/Mexico_City:20250717T110000
DTEND;TZID=America/Mexico_City:20250725T200000
DTSTAMP:20260419T091640
CREATED:20250614T045425Z
LAST-MODIFIED:20250614T045425Z
UID:2338-1752750000-1753473600@guelaguetza.oaxaca.gob.mx
SUMMARY:Expo Café Raíces de Aroma y Sabor "Ruta del Café Pluma"
DESCRIPTION:
URL:https://guelaguetza.oaxaca.gob.mx/event/expo-cafe-raices-de-aroma-y-sabor-ruta-del-cafe-pluma/
LOCATION:Recinto Ferial del Parque Primavera Cho ndobá\, Parque Primavera Oaxaqueña\, Oaxaca\, Mexico
CATEGORIES:Guelaguetza
END:VEVENT
BEGIN:VEVENT
DTSTART;TZID=America/Mexico_City:20250717T110000
DTEND;TZID=America/Mexico_City:20250725T200000
DTSTAMP:20260419T091640
CREATED:20250614T050308Z
LAST-MODIFIED:20250614T050308Z
UID:2343-1752750000-1753473600@guelaguetza.oaxaca.gob.mx
SUMMARY:Feria Pueblos Mágicos "La Magia Ancestral de México"
DESCRIPTION:
URL:https://guelaguetza.oaxaca.gob.mx/event/feria-pueblos-magicos-la-magia-ancestral-de-mexico/
LOCATION:Recinto Ferial del Centro Cultural y de Convenciones de Oaxaca\, Parque Primavera Oaxaqueña\, Oaxaca\, Mexico
CATEGORIES:Guelaguetza
END:VEVENT
BEGIN:VEVENT
DTSTART;TZID=America/Mexico_City:20250717T110000
DTEND;TZID=America/Mexico_City:20250725T200000
DTSTAMP:20260419T091640
CREATED:20250616T191851Z
LAST-MODIFIED:20250616T191851Z
UID:2455-1752750000-1753473600@guelaguetza.oaxaca.gob.mx
SUMMARY:Expoferias artesanales "Arte de mi pueblo"
DESCRIPTION:
URL:https://guelaguetza.oaxaca.gob.mx/event/expoferias-artesanales-arte-de-mi-pueblo/
LOCATION:Parque Primavera Cho ndobá\, Feria “Tradiciones de la Guelaguetza 2025”\, 17.051627517932648\, -96.73113974202555
CATEGORIES:Guelaguetza
END:VEVENT
BEGIN:VEVENT
DTSTART;TZID=America/Mexico_City:20250717T170000
DTEND;TZID=America/Mexico_City:20250717T190000
DTSTAMP:20260419T091640
CREATED:20250613T215458Z
LAST-MODIFIED:20250613T215458Z
UID:2173-1752771600-1752778800@guelaguetza.oaxaca.gob.mx
SUMMARY:Presentación del DJ César Flores
DESCRIPTION:
URL:https://guelaguetza.oaxaca.gob.mx/event/presentacion-del-dj-cesar-flores/
LOCATION:Museo de Arte Contemporáneo y de las Culturas Oaxaqueñas
END:VEVENT
BEGIN:VEVENT
DTSTART;TZID=America/Mexico_City:20250717T170000
DTEND;TZID=America/Mexico_City:20250717T190000
DTSTAMP:20260419T091640
CREATED:20250613T215810Z
LAST-MODIFIED:20250613T215810Z
UID:2180-1752771600-1752778800@guelaguetza.oaxaca.gob.mx
SUMMARY:Concierto de la Soprano Paris Alana Kimberly
DESCRIPTION:
URL:https://guelaguetza.oaxaca.gob.mx/event/concierto-de-la-soprano-paris-alana-kimberly/
LOCATION:Recinto Cultural del Parque Primavera Cho ndobá\, Parque Primavera Oaxaqueña\, Oaxaca de Juárez\, Oaxaca\, Mexico
CATEGORIES:Guelaguetza
END:VEVENT
BEGIN:VEVENT
DTSTART;TZID=America/Mexico_City:20250717T180000
DTEND;TZID=America/Mexico_City:20250717T200000
DTSTAMP:20260419T091640
CREATED:20250613T213749Z
LAST-MODIFIED:20250617T211011Z
UID:2147-1752775200-1752782400@guelaguetza.oaxaca.gob.mx
SUMMARY:Inauguración de la Feria Pueblos Mágicos "La Magia Ancestral de México"
DESCRIPTION:
URL:https://guelaguetza.oaxaca.gob.mx/event/inauguracion-de-la-feria-pueblos-magicos-la-magia-ancestral-de-mexico/
LOCATION:Recinto Ferial del Parque Primavera Cho ndobá\, Parque Primavera Oaxaqueña\, Oaxaca\, Mexico
CATEGORIES:Guelaguetza
END:VEVENT
BEGIN:VEVENT
DTSTART;TZID=America/Mexico_City:20250717T180000
DTEND;TZID=America/Mexico_City:20250717T200000
DTSTAMP:20260419T091640
CREATED:20250613T214125Z
LAST-MODIFIED:20250617T211306Z
UID:2156-1752775200-1752782400@guelaguetza.oaxaca.gob.mx
SUMMARY:Inauguración de la Expo Café Raíces de Aroma y Sabor "Ruta del Café Pluma"
DESCRIPTION:
URL:https://guelaguetza.oaxaca.gob.mx/event/inauguracion-de-la-expo-cafe-raices-de-aroma-y-sabor-ruta-del-cafe-pluma/
LOCATION:Recinto Ferial del Parque Primavera Cho ndobá\, Parque Primavera Oaxaqueña\, Oaxaca\, Mexico
CATEGORIES:Guelaguetza
END:VEVENT
BEGIN:VEVENT
DTSTART;TZID=America/Mexico_City:20250717T180000
DTEND;TZID=America/Mexico_City:20250717T200000
DTSTAMP:20260419T091640
CREATED:20250613T220245Z
LAST-MODIFIED:20250613T220245Z
UID:2182-1752775200-1752782400@guelaguetza.oaxaca.gob.mx
SUMMARY:Inauguración de las Expoferias artesanales de barro\, palma\, carrizo\, madera y textil
DESCRIPTION:
URL:https://guelaguetza.oaxaca.gob.mx/event/inauguracion-de-las-expoferias-artesanales-de-barro-palma-carrizo-madera-y-textil/
LOCATION:Parque Primavera Cho ndobá\, Parque Primavera Oaxaqueña\, Oaxaca de Juárez\, Oaxaca\, Mexico
CATEGORIES:Guelaguetza
END:VEVENT
BEGIN:VEVENT
DTSTART;TZID=America/Mexico_City:20250717T180000
DTEND;TZID=America/Mexico_City:20250717T200000
DTSTAMP:20260419T091640
CREATED:20250613T220732Z
LAST-MODIFIED:20250613T220732Z
UID:2191-1752775200-1752782400@guelaguetza.oaxaca.gob.mx
SUMMARY:Inauguración de la Expo Feria  Artesanal Atzompa 2025
DESCRIPTION:
URL:https://guelaguetza.oaxaca.gob.mx/event/inauguracion-de-la-expo-feria-artesanal-atzompa-2025/
LOCATION:Explanada Municipal de Santa María Atzompa
CATEGORIES:Guelaguetza
END:VEVENT
BEGIN:VEVENT
DTSTART;TZID=America/Mexico_City:20250717T180000
DTEND;TZID=America/Mexico_City:20250717T200000
DTSTAMP:20260419T091640
CREATED:20250613T221119Z
LAST-MODIFIED:20250613T221119Z
UID:2198-1752775200-1752782400@guelaguetza.oaxaca.gob.mx
SUMMARY:Expresiones Artísticas y Culturales
DESCRIPTION:
URL:https://guelaguetza.oaxaca.gob.mx/event/expresiones-artisticas-y-culturales-7/
LOCATION:Parque Primavera Cho ndobá\, Parque Primavera Oaxaqueña\, Oaxaca de Juárez\, Oaxaca\, Mexico
CATEGORIES:Guelaguetza
END:VEVENT
BEGIN:VEVENT
DTSTART;TZID=America/Mexico_City:20250717T180000
DTEND;TZID=America/Mexico_City:20250717T200000
DTSTAMP:20260419T091640
CREATED:20250613T221543Z
LAST-MODIFIED:20250613T221543Z
UID:2203-1752775200-1752782400@guelaguetza.oaxaca.gob.mx
SUMMARY:Concierto Infantil "La Gallinita Pintadita"
DESCRIPTION:
URL:https://guelaguetza.oaxaca.gob.mx/event/concierto-infantil-la-gallinita-pintadita/
LOCATION:Auditorio Guelaguetza\, Auditorio Guelaguetza\, Oaxaca\, Mexico
CATEGORIES:Guelaguetza
END:VEVENT
BEGIN:VEVENT
DTSTART;TZID=America/Mexico_City:20250717T180000
DTEND;TZID=America/Mexico_City:20250717T200000
DTSTAMP:20260419T091640
CREATED:20250613T221904Z
LAST-MODIFIED:20250613T221904Z
UID:2209-1752775200-1752782400@guelaguetza.oaxaca.gob.mx
SUMMARY:Concierto de P.R.E.Y. Música electrónica
DESCRIPTION:
URL:https://guelaguetza.oaxaca.gob.mx/event/concierto-de-p-r-e-y-musica-electronica/
LOCATION:Museo de Arte Contemporáneo y de las Culturas Oaxaqueñas
CATEGORIES:Guelaguetza
END:VEVENT
BEGIN:VEVENT
DTSTART;TZID=America/Mexico_City:20250717T190000
DTEND;TZID=America/Mexico_City:20250717T210000
DTSTAMP:20260419T091640
CREATED:20250613T222401Z
LAST-MODIFIED:20250613T222401Z
UID:2213-1752778800-1752786000@guelaguetza.oaxaca.gob.mx
SUMMARY:Concierto de Tony Rodríguez y la Trova Oaxaqueña
DESCRIPTION:
URL:https://guelaguetza.oaxaca.gob.mx/event/concierto-de-tony-rodriguez-y-la-trova-oaxaquena-2/
LOCATION:Museo de los Pintores Oaxaqueños\, Oaxaca\, Mexico
CATEGORIES:Guelaguetza
END:VEVENT
BEGIN:VEVENT
DTSTART;TZID=America/Mexico_City:20250717T190000
DTEND;TZID=America/Mexico_City:20250717T210000
DTSTAMP:20260419T091640
CREATED:20250613T222658Z
LAST-MODIFIED:20250613T222658Z
UID:2218-1752778800-1752786000@guelaguetza.oaxaca.gob.mx
SUMMARY:Concierto de Natalia Cruz y Ensamble "La Istmeña"
DESCRIPTION:
URL:https://guelaguetza.oaxaca.gob.mx/event/concierto-de-natalia-cruz-y-ensamble-la-istmena/
LOCATION:Recinto Cultural del Parque Primavera Cho ndobá\, Parque Primavera Oaxaqueña\, Oaxaca de Juárez\, Oaxaca\, Mexico
CATEGORIES:Guelaguetza
END:VEVENT
END:VCALENDAR