BEGIN:VCALENDAR
VERSION:2.0
PRODID:-//Guelaguetza Oaxaca 2025 | Corazón cultural de México - ECPv6.15.13//NONSGML v1.0//EN
CALSCALE:GREGORIAN
METHOD:PUBLISH
X-WR-CALNAME:Guelaguetza Oaxaca 2025 | Corazón cultural de México
X-ORIGINAL-URL:https://guelaguetza.oaxaca.gob.mx
X-WR-CALDESC:Eventos para Guelaguetza Oaxaca 2025 | Corazón cultural de México
REFRESH-INTERVAL;VALUE=DURATION:PT1H
X-Robots-Tag:noindex
X-PUBLISHED-TTL:PT1H
BEGIN:VTIMEZONE
TZID:America/Mexico_City
BEGIN:STANDARD
TZOFFSETFROM:-0600
TZOFFSETTO:-0600
TZNAME:CST
DTSTART:20240101T000000
END:STANDARD
END:VTIMEZONE
BEGIN:VEVENT
DTSTART;TZID=America/Mexico_City:20250702T180000
DTEND;TZID=America/Mexico_City:20250731T220000
DTSTAMP:20260419T091549
CREATED:20250616T174110Z
LAST-MODIFIED:20250616T174110Z
UID:2430-1751479200-1753999200@guelaguetza.oaxaca.gob.mx
SUMMARY:Conciertos culturales
DESCRIPTION:
URL:https://guelaguetza.oaxaca.gob.mx/event/conciertos-culturales/
LOCATION:Zócalo de la ciudad de Oaxaca\, Zócalo de la Ciudad de Oaxaca\, Oaxaca\, Mexico
CATEGORIES:Guelaguetza
END:VEVENT
BEGIN:VEVENT
DTSTART;TZID=America/Mexico_City:20250715T110000
DTEND;TZID=America/Mexico_City:20250730T180000
DTSTAMP:20260419T091549
CREATED:20250616T174757Z
LAST-MODIFIED:20250616T174757Z
UID:2432-1752577200-1753898400@guelaguetza.oaxaca.gob.mx
SUMMARY:Inauguración de la exposición pictórica "Pinceladas de tradición 2025"
DESCRIPTION:
URL:https://guelaguetza.oaxaca.gob.mx/event/inauguracion-de-la-exposicion-pictorica-pinceladas-de-tradicion-2025/
LOCATION:Recinto Cultural del Parque Primavera Cho ndobá\, Parque Primavera Oaxaqueña\, Oaxaca de Juárez\, Oaxaca\, Mexico
CATEGORIES:Guelaguetza
END:VEVENT
BEGIN:VEVENT
DTSTART;TZID=America/Mexico_City:20250716T100000
DTEND;TZID=America/Mexico_City:20250727T170000
DTSTAMP:20260419T091549
CREATED:20250614T044922Z
LAST-MODIFIED:20250617T212259Z
UID:2331-1752660000-1753635600@guelaguetza.oaxaca.gob.mx
SUMMARY:Torneo del juego de la Pelota Mixteca "Guelaguetza 2025"
DESCRIPTION:
URL:https://guelaguetza.oaxaca.gob.mx/event/torneo-del-juego-de-la-pelota-mixteca-guelaguetza-2025-2/
LOCATION:Pasajuego Benito Juárez  Pasajuego 5 señores de la UABJO Pasajuego\, Juxtlahuaca
CATEGORIES:Guelaguetza
END:VEVENT
BEGIN:VEVENT
DTSTART;TZID=America/Mexico_City:20250716T110000
DTEND;TZID=America/Mexico_City:20250730T210000
DTSTAMP:20260419T091549
CREATED:20250614T045159Z
LAST-MODIFIED:20250615T015533Z
UID:2336-1752663600-1753909200@guelaguetza.oaxaca.gob.mx
SUMMARY:Tianguis Gastronómico "Desde mis Raíces con sus Sabores"
DESCRIPTION:
URL:https://guelaguetza.oaxaca.gob.mx/event/tianguis-gastronomico-desde-mis-raices-con-sus-sabores/
LOCATION:Plaza de la Danza\, Plaza de la Danza\, Oaxaca\, Mexico
CATEGORIES:Guelaguetza
ATTACH;FMTTYPE=image/webp:https://guelaguetza.oaxaca.gob.mx/wp-content/uploads/2025/06/16JULIO-Tianguis-Gastronomico.webp
END:VEVENT
BEGIN:VEVENT
DTSTART;TZID=America/Mexico_City:20250717T100000
DTEND;TZID=America/Mexico_City:20250724T200000
DTSTAMP:20260419T091549
CREATED:20250616T175401Z
LAST-MODIFIED:20250616T175401Z
UID:2435-1752746400-1753387200@guelaguetza.oaxaca.gob.mx
SUMMARY:Expo Feria Artesanal de Santa María Atzompa
DESCRIPTION:
URL:https://guelaguetza.oaxaca.gob.mx/event/expo-feria-artesanal-de-santa-maria-atzompa/
LOCATION:Palacio Municipal de Santa María Atzompa
CATEGORIES:Guelaguetza
END:VEVENT
BEGIN:VEVENT
DTSTART;TZID=America/Mexico_City:20250717T110000
DTEND;TZID=America/Mexico_City:20250724T180000
DTSTAMP:20260419T091549
CREATED:20250616T180147Z
LAST-MODIFIED:20250616T180147Z
UID:2440-1752750000-1753380000@guelaguetza.oaxaca.gob.mx
SUMMARY:Feria del Textil Oaxaqueño
DESCRIPTION:
URL:https://guelaguetza.oaxaca.gob.mx/event/feria-del-textil-oaxaqueno/
LOCATION:Real Alhóndiga de Antequera\, Oaxaca\, Mexico
CATEGORIES:Guelaguetza
END:VEVENT
BEGIN:VEVENT
DTSTART;TZID=America/Mexico_City:20250717T110000
DTEND;TZID=America/Mexico_City:20250725T200000
DTSTAMP:20260419T091549
CREATED:20250614T045425Z
LAST-MODIFIED:20250614T045425Z
UID:2338-1752750000-1753473600@guelaguetza.oaxaca.gob.mx
SUMMARY:Expo Café Raíces de Aroma y Sabor "Ruta del Café Pluma"
DESCRIPTION:
URL:https://guelaguetza.oaxaca.gob.mx/event/expo-cafe-raices-de-aroma-y-sabor-ruta-del-cafe-pluma/
LOCATION:Recinto Ferial del Parque Primavera Cho ndobá\, Parque Primavera Oaxaqueña\, Oaxaca\, Mexico
CATEGORIES:Guelaguetza
END:VEVENT
BEGIN:VEVENT
DTSTART;TZID=America/Mexico_City:20250717T110000
DTEND;TZID=America/Mexico_City:20250725T200000
DTSTAMP:20260419T091549
CREATED:20250614T050308Z
LAST-MODIFIED:20250614T050308Z
UID:2343-1752750000-1753473600@guelaguetza.oaxaca.gob.mx
SUMMARY:Feria Pueblos Mágicos "La Magia Ancestral de México"
DESCRIPTION:
URL:https://guelaguetza.oaxaca.gob.mx/event/feria-pueblos-magicos-la-magia-ancestral-de-mexico/
LOCATION:Recinto Ferial del Centro Cultural y de Convenciones de Oaxaca\, Parque Primavera Oaxaqueña\, Oaxaca\, Mexico
CATEGORIES:Guelaguetza
END:VEVENT
BEGIN:VEVENT
DTSTART;TZID=America/Mexico_City:20250717T110000
DTEND;TZID=America/Mexico_City:20250725T200000
DTSTAMP:20260419T091549
CREATED:20250616T191851Z
LAST-MODIFIED:20250616T191851Z
UID:2455-1752750000-1753473600@guelaguetza.oaxaca.gob.mx
SUMMARY:Expoferias artesanales "Arte de mi pueblo"
DESCRIPTION:
URL:https://guelaguetza.oaxaca.gob.mx/event/expoferias-artesanales-arte-de-mi-pueblo/
LOCATION:Parque Primavera Cho ndobá\, Feria “Tradiciones de la Guelaguetza 2025”\, 17.051627517932648\, -96.73113974202555
CATEGORIES:Guelaguetza
END:VEVENT
BEGIN:VEVENT
DTSTART;TZID=America/Mexico_City:20250718T100000
DTEND;TZID=America/Mexico_City:20250803T200000
DTSTAMP:20260419T091549
CREATED:20250616T200950Z
LAST-MODIFIED:20250616T200950Z
UID:2464-1752832800-1754251200@guelaguetza.oaxaca.gob.mx
SUMMARY:Expo Venta de Alebrijes Guelaguetza "San Martín Tilcajete 2025"
DESCRIPTION:
URL:https://guelaguetza.oaxaca.gob.mx/event/expo-venta-de-alebrijes-guelaguetza-san-martin-tilcajete-2025/
LOCATION:Cancha Municipal de San Martín Tilcajete
CATEGORIES:Guelaguetza
END:VEVENT
BEGIN:VEVENT
DTSTART;TZID=America/Mexico_City:20250718T110000
DTEND;TZID=America/Mexico_City:20250729T200000
DTSTAMP:20260419T091549
CREATED:20250614T050732Z
LAST-MODIFIED:20250615T015757Z
UID:2349-1752836400-1753819200@guelaguetza.oaxaca.gob.mx
SUMMARY:Expo Feria Artesanal 2025
DESCRIPTION:
URL:https://guelaguetza.oaxaca.gob.mx/event/expo-feria-artesanal-2025/
LOCATION:Centro Cultural y de Convenciones de Oaxaca\, Centro Cultural y de Convenciones de Oaxaca\, Oaxaca\, Mexico
CATEGORIES:Guelaguetza
ATTACH;FMTTYPE=image/webp:https://guelaguetza.oaxaca.gob.mx/wp-content/uploads/2025/06/18JULIO-Expo-Feria-Artesanal.webp
END:VEVENT
BEGIN:VEVENT
DTSTART;TZID=America/Mexico_City:20250718T110000
DTEND;TZID=America/Mexico_City:20250729T220000
DTSTAMP:20260419T091549
CREATED:20250614T050531Z
LAST-MODIFIED:20250615T015944Z
UID:2346-1752836400-1753826400@guelaguetza.oaxaca.gob.mx
SUMMARY:Feria del Mezcal 2025
DESCRIPTION:
URL:https://guelaguetza.oaxaca.gob.mx/event/feria-del-mezcal-2025/
LOCATION:Centro Cultural y de Convenciones de Oaxaca\, Centro Cultural y de Convenciones de Oaxaca\, Oaxaca\, Mexico
CATEGORIES:Guelaguetza
ATTACH;FMTTYPE=image/webp:https://guelaguetza.oaxaca.gob.mx/wp-content/uploads/2025/06/18JULIO-Feria-del-Mezcal.webp
END:VEVENT
BEGIN:VEVENT
DTSTART;TZID=America/Mexico_City:20250719T080000
DTEND;TZID=America/Mexico_City:20250720T210000
DTSTAMP:20260419T091549
CREATED:20250616T201739Z
LAST-MODIFIED:20250616T201739Z
UID:2470-1752912000-1753045200@guelaguetza.oaxaca.gob.mx
SUMMARY:Expo feria de hongos silvestres y productos no maderables
DESCRIPTION:
URL:https://guelaguetza.oaxaca.gob.mx/event/expo-feria-de-hongos-silvestres-y-productos-no-maderables/
LOCATION:San Antonio Cuajimoloyas\, Oaxaca\, Mexico
CATEGORIES:Guelaguetza
END:VEVENT
BEGIN:VEVENT
DTSTART;TZID=America/Mexico_City:20250719T090000
DTEND;TZID=America/Mexico_City:20250719T110000
DTSTAMP:20260419T091549
CREATED:20250613T220255Z
LAST-MODIFIED:20250613T220255Z
UID:2185-1752915600-1752922800@guelaguetza.oaxaca.gob.mx
SUMMARY:Inauguración de la Expo feria de hongos silvestres y productos no maderables
DESCRIPTION:
URL:https://guelaguetza.oaxaca.gob.mx/event/inauguracion-de-la-expo-feria-de-hongos-silvestres-y-productos-no-maderables/
LOCATION:San Antonio Cuajimoloyas\, Oaxaca\, Mexico
CATEGORIES:Guelaguetza
END:VEVENT
BEGIN:VEVENT
DTSTART;TZID=America/Mexico_City:20250719T090000
DTEND;TZID=America/Mexico_City:20250719T230000
DTSTAMP:20260419T091549
CREATED:20250613T215916Z
LAST-MODIFIED:20250616T215529Z
UID:2177-1752915600-1752966000@guelaguetza.oaxaca.gob.mx
SUMMARY:Torneo del juego de la Pelota Mixteca "Guelaguetza 2025"
DESCRIPTION:
URL:https://guelaguetza.oaxaca.gob.mx/event/torneo-del-juego-de-la-pelota-mixteca-guelaguetza-2025/
LOCATION:Pasajuego Benito Juárez\, del Instituto Tecnológico de Oaxaca\, Pasajuego de pelota mixteca Oaxaca\, Oaxaca\, Mexico
CATEGORIES:Guelaguetza
END:VEVENT
BEGIN:VEVENT
DTSTART;TZID=America/Mexico_City:20250719T100000
DTEND;TZID=America/Mexico_City:20250719T120000
DTSTAMP:20260419T091549
CREATED:20250613T220448Z
LAST-MODIFIED:20250613T220448Z
UID:2188-1752919200-1752926400@guelaguetza.oaxaca.gob.mx
SUMMARY:Inauguración de la Expo Feria Artesanal de Alebrijes Arrazola 2025
DESCRIPTION:
URL:https://guelaguetza.oaxaca.gob.mx/event/inauguracion-de-la-expo-feria-artesanal-de-alebrijes-arrazola-2025/
LOCATION:Andador Turístico de San Antonio Arrazola
CATEGORIES:Guelaguetza
END:VEVENT
BEGIN:VEVENT
DTSTART;TZID=America/Mexico_City:20250719T100000
DTEND;TZID=America/Mexico_City:20250803T200000
DTSTAMP:20260419T091549
CREATED:20250616T202326Z
LAST-MODIFIED:20250616T202326Z
UID:2476-1752919200-1754251200@guelaguetza.oaxaca.gob.mx
SUMMARY:Expo Feria Artesanal de Alebrijes Arrazola 2025
DESCRIPTION:
URL:https://guelaguetza.oaxaca.gob.mx/event/expo-feria-artesanal-de-alebrijes-arrazola-2025/
LOCATION:Andador Turístico de San Antonio Arrazola
CATEGORIES:Guelaguetza
END:VEVENT
BEGIN:VEVENT
DTSTART;TZID=America/Mexico_City:20250719T110000
DTEND;TZID=America/Mexico_City:20250727T190000
DTSTAMP:20260419T091549
CREATED:20250616T201936Z
LAST-MODIFIED:20250616T201936Z
UID:2473-1752922800-1753642800@guelaguetza.oaxaca.gob.mx
SUMMARY:Feria de la Cantera
DESCRIPTION:
URL:https://guelaguetza.oaxaca.gob.mx/event/feria-de-la-cantera/
LOCATION:Magdalena Apasco Etla\, Oaxaca\, Mexico
CATEGORIES:Guelaguetza
END:VEVENT
BEGIN:VEVENT
DTSTART;TZID=America/Mexico_City:20250719T130000
DTEND;TZID=America/Mexico_City:20250719T150000
DTSTAMP:20260419T091549
CREATED:20250613T220703Z
LAST-MODIFIED:20250617T212526Z
UID:2192-1752930000-1752937200@guelaguetza.oaxaca.gob.mx
SUMMARY:Comida de la Hermandad
DESCRIPTION:
URL:https://guelaguetza.oaxaca.gob.mx/event/comida-de-la-hermandad-3/
LOCATION:Jardin de Benjamín (San Felipe del Agua)\, Jardín de Benjamín\, Oaxaca\, Mexico
CATEGORIES:Guelaguetza
END:VEVENT
BEGIN:VEVENT
DTSTART;TZID=America/Mexico_City:20250719T180000
DTEND;TZID=America/Mexico_City:20250719T200000
DTSTAMP:20260419T091549
CREATED:20250613T220941Z
LAST-MODIFIED:20250617T195236Z
UID:2195-1752948000-1752955200@guelaguetza.oaxaca.gob.mx
SUMMARY:Desfile de delegaciones
DESCRIPTION:
URL:https://guelaguetza.oaxaca.gob.mx/event/desfile-de-delegaciones-3/
LOCATION:Salida de la Fuente de las 8 Regiones\, Clzda. Porfirio Díaz\, Av. Juárez\, Abasolo\, Alcalá\, Morelos\, García Vigil e Independencia.\, 17.082464130565857\, -96.71887748191587
ATTACH;FMTTYPE=image/webp:https://guelaguetza.oaxaca.gob.mx/wp-content/uploads/2025/06/19y26JULIO-Desfiles-de-Delegaciones.webp
END:VEVENT
BEGIN:VEVENT
DTSTART;TZID=America/Mexico_City:20250719T180000
DTEND;TZID=America/Mexico_City:20250719T200000
DTSTAMP:20260419T091549
CREATED:20250613T221234Z
LAST-MODIFIED:20250613T221234Z
UID:2201-1752948000-1752955200@guelaguetza.oaxaca.gob.mx
SUMMARY:Concierto de GND Banda\, Skaa
DESCRIPTION:
URL:https://guelaguetza.oaxaca.gob.mx/event/concierto-de-gnd-banda-skaa/
LOCATION:Parque Primavera Cho ndobá\, Parque Primavera Oaxaqueña\, Oaxaca de Juárez\, Oaxaca\, Mexico
CATEGORIES:Guelaguetza
END:VEVENT
BEGIN:VEVENT
DTSTART;TZID=America/Mexico_City:20250719T200000
DTEND;TZID=America/Mexico_City:20250719T220000
DTSTAMP:20260419T091549
CREATED:20250613T221441Z
LAST-MODIFIED:20250613T221441Z
UID:2205-1752955200-1752962400@guelaguetza.oaxaca.gob.mx
SUMMARY:Concierto de "El Bandido del Camino"\, Fusión mexa
DESCRIPTION:
URL:https://guelaguetza.oaxaca.gob.mx/event/concierto-de-el-bandido-del-camino-fusion-mexa/
LOCATION:Parque Primavera Cho ndobá\, Parque Primavera Oaxaqueña\, Oaxaca de Juárez\, Oaxaca\, Mexico
CATEGORIES:Guelaguetza
END:VEVENT
BEGIN:VEVENT
DTSTART;TZID=America/Mexico_City:20250719T200000
DTEND;TZID=America/Mexico_City:20250719T220000
DTSTAMP:20260419T091549
CREATED:20250613T221626Z
LAST-MODIFIED:20250613T221626Z
UID:2207-1752955200-1752962400@guelaguetza.oaxaca.gob.mx
SUMMARY:Concierto de "Rockola"\, rock en tu idioma "Guna'a Rock"
DESCRIPTION:
URL:https://guelaguetza.oaxaca.gob.mx/event/concierto-de-rockola-rock-en-tu-idioma-gunaa-rock/
LOCATION:Zócalo de la ciudad de Oaxaca\, Zócalo de la Ciudad de Oaxaca\, Oaxaca\, Mexico
CATEGORIES:Guelaguetza
END:VEVENT
END:VCALENDAR