BEGIN:VCALENDAR
VERSION:2.0
PRODID:-//Guelaguetza Oaxaca 2025 | Corazón cultural de México - ECPv6.15.13//NONSGML v1.0//EN
CALSCALE:GREGORIAN
METHOD:PUBLISH
X-WR-CALNAME:Guelaguetza Oaxaca 2025 | Corazón cultural de México
X-ORIGINAL-URL:https://guelaguetza.oaxaca.gob.mx
X-WR-CALDESC:Eventos para Guelaguetza Oaxaca 2025 | Corazón cultural de México
REFRESH-INTERVAL;VALUE=DURATION:PT1H
X-Robots-Tag:noindex
X-PUBLISHED-TTL:PT1H
BEGIN:VTIMEZONE
TZID:America/Mexico_City
BEGIN:STANDARD
TZOFFSETFROM:-0600
TZOFFSETTO:-0600
TZNAME:CST
DTSTART:20240101T000000
END:STANDARD
END:VTIMEZONE
BEGIN:VEVENT
DTSTART;TZID=America/Mexico_City:20250702T180000
DTEND;TZID=America/Mexico_City:20250731T220000
DTSTAMP:20260419T132358
CREATED:20250616T174110Z
LAST-MODIFIED:20250616T174110Z
UID:2430-1751479200-1753999200@guelaguetza.oaxaca.gob.mx
SUMMARY:Conciertos culturales
DESCRIPTION:
URL:https://guelaguetza.oaxaca.gob.mx/event/conciertos-culturales/
LOCATION:Zócalo de la ciudad de Oaxaca\, Zócalo de la Ciudad de Oaxaca\, Oaxaca\, Mexico
CATEGORIES:Guelaguetza
END:VEVENT
BEGIN:VEVENT
DTSTART;TZID=America/Mexico_City:20250715T110000
DTEND;TZID=America/Mexico_City:20250730T180000
DTSTAMP:20260419T132358
CREATED:20250616T174757Z
LAST-MODIFIED:20250616T174757Z
UID:2432-1752577200-1753898400@guelaguetza.oaxaca.gob.mx
SUMMARY:Inauguración de la exposición pictórica "Pinceladas de tradición 2025"
DESCRIPTION:
URL:https://guelaguetza.oaxaca.gob.mx/event/inauguracion-de-la-exposicion-pictorica-pinceladas-de-tradicion-2025/
LOCATION:Recinto Cultural del Parque Primavera Cho ndobá\, Parque Primavera Oaxaqueña\, Oaxaca de Juárez\, Oaxaca\, Mexico
CATEGORIES:Guelaguetza
END:VEVENT
BEGIN:VEVENT
DTSTART;TZID=America/Mexico_City:20250716T100000
DTEND;TZID=America/Mexico_City:20250727T170000
DTSTAMP:20260419T132358
CREATED:20250614T044922Z
LAST-MODIFIED:20250617T212259Z
UID:2331-1752660000-1753635600@guelaguetza.oaxaca.gob.mx
SUMMARY:Torneo del juego de la Pelota Mixteca "Guelaguetza 2025"
DESCRIPTION:
URL:https://guelaguetza.oaxaca.gob.mx/event/torneo-del-juego-de-la-pelota-mixteca-guelaguetza-2025-2/
LOCATION:Pasajuego Benito Juárez  Pasajuego 5 señores de la UABJO Pasajuego\, Juxtlahuaca
CATEGORIES:Guelaguetza
END:VEVENT
BEGIN:VEVENT
DTSTART;TZID=America/Mexico_City:20250716T110000
DTEND;TZID=America/Mexico_City:20250730T210000
DTSTAMP:20260419T132358
CREATED:20250614T045159Z
LAST-MODIFIED:20250615T015533Z
UID:2336-1752663600-1753909200@guelaguetza.oaxaca.gob.mx
SUMMARY:Tianguis Gastronómico "Desde mis Raíces con sus Sabores"
DESCRIPTION:
URL:https://guelaguetza.oaxaca.gob.mx/event/tianguis-gastronomico-desde-mis-raices-con-sus-sabores/
LOCATION:Plaza de la Danza\, Plaza de la Danza\, Oaxaca\, Mexico
CATEGORIES:Guelaguetza
ATTACH;FMTTYPE=image/webp:https://guelaguetza.oaxaca.gob.mx/wp-content/uploads/2025/06/16JULIO-Tianguis-Gastronomico.webp
END:VEVENT
BEGIN:VEVENT
DTSTART;TZID=America/Mexico_City:20250718T100000
DTEND;TZID=America/Mexico_City:20250803T200000
DTSTAMP:20260419T132358
CREATED:20250616T200950Z
LAST-MODIFIED:20250616T200950Z
UID:2464-1752832800-1754251200@guelaguetza.oaxaca.gob.mx
SUMMARY:Expo Venta de Alebrijes Guelaguetza "San Martín Tilcajete 2025"
DESCRIPTION:
URL:https://guelaguetza.oaxaca.gob.mx/event/expo-venta-de-alebrijes-guelaguetza-san-martin-tilcajete-2025/
LOCATION:Cancha Municipal de San Martín Tilcajete
CATEGORIES:Guelaguetza
END:VEVENT
BEGIN:VEVENT
DTSTART;TZID=America/Mexico_City:20250718T110000
DTEND;TZID=America/Mexico_City:20250729T200000
DTSTAMP:20260419T132358
CREATED:20250614T050732Z
LAST-MODIFIED:20250615T015757Z
UID:2349-1752836400-1753819200@guelaguetza.oaxaca.gob.mx
SUMMARY:Expo Feria Artesanal 2025
DESCRIPTION:
URL:https://guelaguetza.oaxaca.gob.mx/event/expo-feria-artesanal-2025/
LOCATION:Centro Cultural y de Convenciones de Oaxaca\, Centro Cultural y de Convenciones de Oaxaca\, Oaxaca\, Mexico
CATEGORIES:Guelaguetza
ATTACH;FMTTYPE=image/webp:https://guelaguetza.oaxaca.gob.mx/wp-content/uploads/2025/06/18JULIO-Expo-Feria-Artesanal.webp
END:VEVENT
BEGIN:VEVENT
DTSTART;TZID=America/Mexico_City:20250718T110000
DTEND;TZID=America/Mexico_City:20250729T220000
DTSTAMP:20260419T132358
CREATED:20250614T050531Z
LAST-MODIFIED:20250615T015944Z
UID:2346-1752836400-1753826400@guelaguetza.oaxaca.gob.mx
SUMMARY:Feria del Mezcal 2025
DESCRIPTION:
URL:https://guelaguetza.oaxaca.gob.mx/event/feria-del-mezcal-2025/
LOCATION:Centro Cultural y de Convenciones de Oaxaca\, Centro Cultural y de Convenciones de Oaxaca\, Oaxaca\, Mexico
CATEGORIES:Guelaguetza
ATTACH;FMTTYPE=image/webp:https://guelaguetza.oaxaca.gob.mx/wp-content/uploads/2025/06/18JULIO-Feria-del-Mezcal.webp
END:VEVENT
BEGIN:VEVENT
DTSTART;TZID=America/Mexico_City:20250719T100000
DTEND;TZID=America/Mexico_City:20250803T200000
DTSTAMP:20260419T132358
CREATED:20250616T202326Z
LAST-MODIFIED:20250616T202326Z
UID:2476-1752919200-1754251200@guelaguetza.oaxaca.gob.mx
SUMMARY:Expo Feria Artesanal de Alebrijes Arrazola 2025
DESCRIPTION:
URL:https://guelaguetza.oaxaca.gob.mx/event/expo-feria-artesanal-de-alebrijes-arrazola-2025/
LOCATION:Andador Turístico de San Antonio Arrazola
CATEGORIES:Guelaguetza
END:VEVENT
BEGIN:VEVENT
DTSTART;TZID=America/Mexico_City:20250719T110000
DTEND;TZID=America/Mexico_City:20250727T190000
DTSTAMP:20260419T132358
CREATED:20250616T201936Z
LAST-MODIFIED:20250616T201936Z
UID:2473-1752922800-1753642800@guelaguetza.oaxaca.gob.mx
SUMMARY:Feria de la Cantera
DESCRIPTION:
URL:https://guelaguetza.oaxaca.gob.mx/event/feria-de-la-cantera/
LOCATION:Magdalena Apasco Etla\, Oaxaca\, Mexico
CATEGORIES:Guelaguetza
END:VEVENT
BEGIN:VEVENT
DTSTART;TZID=America/Mexico_City:20250722T070000
DTEND;TZID=America/Mexico_City:20250727T090000
DTSTAMP:20260419T132358
CREATED:20250615T024116Z
LAST-MODIFIED:20250615T024142Z
UID:2365-1753167600-1753606800@guelaguetza.oaxaca.gob.mx
SUMMARY:LXXVI Vuelta Clásica Ciclista "Lunes del Cerro"
DESCRIPTION:
URL:https://guelaguetza.oaxaca.gob.mx/event/lxxvi-vuelta-clasica-ciclista-lunes-del-cerro/
LOCATION:Juchitán \, Jalapa del Marqués\, Salina Cruz\, Huatulco\, Puerto Escondido\, Miahuatlán\, Oaxaca de Juárez
CATEGORIES:Guelaguetza
ATTACH;FMTTYPE=image/webp:https://guelaguetza.oaxaca.gob.mx/wp-content/uploads/2025/06/22al27JULIO-LXXVI-Vuelta-Ciclista.webp
END:VEVENT
BEGIN:VEVENT
DTSTART;TZID=America/Mexico_City:20250725T110000
DTEND;TZID=America/Mexico_City:20250729T180000
DTSTAMP:20260419T132358
CREATED:20250616T202336Z
LAST-MODIFIED:20250616T202336Z
UID:2475-1753441200-1753812000@guelaguetza.oaxaca.gob.mx
SUMMARY:Feria del Huarache
DESCRIPTION:
URL:https://guelaguetza.oaxaca.gob.mx/event/feria-del-huarache/
LOCATION:Real Alhóndiga de Antequera\, Oaxaca\, Mexico
CATEGORIES:Guelaguetza
END:VEVENT
BEGIN:VEVENT
DTSTART;TZID=America/Mexico_City:20250727T090000
DTEND;TZID=America/Mexico_City:20250727T110000
DTSTAMP:20260419T132358
CREATED:20250614T040823Z
LAST-MODIFIED:20250614T040823Z
UID:2304-1753606800-1753614000@guelaguetza.oaxaca.gob.mx
SUMMARY:Clásica Ciclista "Lunes del Cerro"
DESCRIPTION:
URL:https://guelaguetza.oaxaca.gob.mx/event/clasica-ciclista-lunes-del-cerro/
LOCATION:Auditorio Guelaguetza\, Auditorio Guelaguetza\, Oaxaca\, Mexico
CATEGORIES:Guelaguetza
END:VEVENT
BEGIN:VEVENT
DTSTART;TZID=America/Mexico_City:20250727T100000
DTEND;TZID=America/Mexico_City:20250727T120000
DTSTAMP:20260419T132358
CREATED:20250616T163119Z
LAST-MODIFIED:20250616T163119Z
UID:2384-1753610400-1753617600@guelaguetza.oaxaca.gob.mx
SUMMARY:Torneo Internacional de Pelota Mixteca "Guelaguetza 2025". Modalidad: pelota de hule
DESCRIPTION:
URL:https://guelaguetza.oaxaca.gob.mx/event/torneo-internacional-de-pelota-mixteca-guelaguetza-2025-modalidad-pelota-de-hule-3/
LOCATION:Pasajuego Benito Juárez\, del Instituto Tecnológico de Oaxaca\, Pasajuego de pelota mixteca Oaxaca\, Oaxaca\, Mexico
CATEGORIES:Guelaguetza
END:VEVENT
BEGIN:VEVENT
DTSTART;TZID=America/Mexico_City:20250727T100000
DTEND;TZID=America/Mexico_City:20250727T120000
DTSTAMP:20260419T132358
CREATED:20250616T163427Z
LAST-MODIFIED:20250616T163427Z
UID:2389-1753610400-1753617600@guelaguetza.oaxaca.gob.mx
SUMMARY:Torneo Internacional de Pelota Mixteca "Guelaguetza 2025". Modalidad: pelota de forro
DESCRIPTION:
URL:https://guelaguetza.oaxaca.gob.mx/event/torneo-internacional-de-pelota-mixteca-guelaguetza-2025-modalidad-pelota-de-forro-2/
LOCATION:Pasajuego\, Juxtlahuaca
CATEGORIES:Guelaguetza
END:VEVENT
BEGIN:VEVENT
DTSTART;TZID=America/Mexico_City:20250727T100000
DTEND;TZID=America/Mexico_City:20250727T120000
DTSTAMP:20260419T132358
CREATED:20250616T164127Z
LAST-MODIFIED:20250616T164127Z
UID:2396-1753610400-1753617600@guelaguetza.oaxaca.gob.mx
SUMMARY:Torneo Internacional de Pelota Mixteca "Guelaguetza 2025". Modalidad: pelota de hule
DESCRIPTION:
URL:https://guelaguetza.oaxaca.gob.mx/event/torneo-internacional-de-pelota-mixteca-guelaguetza-2025-modalidad-pelota-de-hule-4/
LOCATION:Pasajuego Benito Juárez\, del Instituto Tecnológico de Oaxaca\, Pasajuego de pelota mixteca Oaxaca\, Oaxaca\, Mexico
CATEGORIES:Guelaguetza
END:VEVENT
BEGIN:VEVENT
DTSTART;TZID=America/Mexico_City:20250727T120000
DTEND;TZID=America/Mexico_City:20250727T140000
DTSTAMP:20260419T132358
CREATED:20250616T164729Z
LAST-MODIFIED:20250616T164729Z
UID:2401-1753617600-1753624800@guelaguetza.oaxaca.gob.mx
SUMMARY:Concierto de la Orquesta Sinfónica de Oaxaca con la Compañía de Danza del Estado\, "Guelaguetza Sinfónica"
DESCRIPTION:
URL:https://guelaguetza.oaxaca.gob.mx/event/concierto-de-la-orquesta-sinfonica-de-oaxaca-con-la-compania-de-danza-del-estado-guelaguetza-sinfonica/
LOCATION:Zócalo de la ciudad de Oaxaca\, Zócalo de la Ciudad de Oaxaca\, Oaxaca\, Mexico
CATEGORIES:Guelaguetza
END:VEVENT
BEGIN:VEVENT
DTSTART;TZID=America/Mexico_City:20250727T160000
DTEND;TZID=America/Mexico_City:20250727T180000
DTSTAMP:20260419T132358
CREATED:20250616T165434Z
LAST-MODIFIED:20250616T165434Z
UID:2405-1753632000-1753639200@guelaguetza.oaxaca.gob.mx
SUMMARY:Cuarta Calenda Serrana
DESCRIPTION:
URL:https://guelaguetza.oaxaca.gob.mx/event/cuarta-calenda-serrana/
LOCATION:Salida: Av. Juárez (parque el llano)\, Morelos\, García Vigil y Alameda de León.
CATEGORIES:Guelaguetza
END:VEVENT
BEGIN:VEVENT
DTSTART;TZID=America/Mexico_City:20250727T170000
DTEND;TZID=America/Mexico_City:20250727T190000
DTSTAMP:20260419T132358
CREATED:20250616T170125Z
LAST-MODIFIED:20250616T170246Z
UID:2416-1753635600-1753642800@guelaguetza.oaxaca.gob.mx
SUMMARY:Pitaya Cine
DESCRIPTION:
URL:https://guelaguetza.oaxaca.gob.mx/event/pitaya-cine-4/
LOCATION:Teatro Juárez\, Oaxaca\, Mexico
CATEGORIES:Guelaguetza
END:VEVENT
BEGIN:VEVENT
DTSTART;TZID=America/Mexico_City:20250727T180000
DTEND;TZID=America/Mexico_City:20250727T200000
DTSTAMP:20260419T132358
CREATED:20250616T170604Z
LAST-MODIFIED:20250616T170604Z
UID:2418-1753639200-1753646400@guelaguetza.oaxaca.gob.mx
SUMMARY:Concierto de "ELKALULU". Ensamble fusión
DESCRIPTION:
URL:https://guelaguetza.oaxaca.gob.mx/event/concierto-de-elkalulu-ensamble-fusion/
LOCATION:Zócalo de la ciudad de Oaxaca\, Zócalo de la Ciudad de Oaxaca\, Oaxaca\, Mexico
CATEGORIES:Guelaguetza
END:VEVENT
BEGIN:VEVENT
DTSTART;TZID=America/Mexico_City:20250727T190000
DTEND;TZID=America/Mexico_City:20250727T210000
DTSTAMP:20260419T132358
CREATED:20250614T041832Z
LAST-MODIFIED:20250614T041832Z
UID:2306-1753642800-1753650000@guelaguetza.oaxaca.gob.mx
SUMMARY:Donají "La Leyenda"
DESCRIPTION:
URL:https://guelaguetza.oaxaca.gob.mx/event/donaji-la-leyenda-4/
LOCATION:Auditorio Guelaguetza\, Auditorio Guelaguetza\, Oaxaca\, Mexico
CATEGORIES:Guelaguetza
END:VEVENT
BEGIN:VEVENT
DTSTART;TZID=America/Mexico_City:20250727T200000
DTEND;TZID=America/Mexico_City:20250727T220000
DTSTAMP:20260419T132358
CREATED:20250616T171243Z
LAST-MODIFIED:20250616T171243Z
UID:2420-1753646400-1753653600@guelaguetza.oaxaca.gob.mx
SUMMARY:Concierto de Juchirap
DESCRIPTION:
URL:https://guelaguetza.oaxaca.gob.mx/event/concierto-de-juchirap/
LOCATION:Zócalo de la ciudad de Oaxaca\, Zócalo de la Ciudad de Oaxaca\, Oaxaca\, Mexico
CATEGORIES:Guelaguetza
END:VEVENT
BEGIN:VEVENT
DTSTART;TZID=America/Mexico_City:20250727T200000
DTEND;TZID=America/Mexico_City:20250727T220000
DTSTAMP:20260419T132358
CREATED:20250616T171821Z
LAST-MODIFIED:20250616T171821Z
UID:2423-1753646400-1753653600@guelaguetza.oaxaca.gob.mx
SUMMARY:Concierto de la Orquesta Primavera de Oaxaca con Alejandra Robles
DESCRIPTION:
URL:https://guelaguetza.oaxaca.gob.mx/event/concierto-de-la-orquesta-primavera-de-oaxaca-con-alejandra-robles/
LOCATION:Teatro Macedonio Alcalá\, Teatro Macedonio Alcalá\, Oaxaca\, Mexico
CATEGORIES:Guelaguetza
END:VEVENT
END:VCALENDAR